BEGIN:VCALENDAR
VERSION:2.0
PRODID:-//hacksw/handcal//NONSGML v1.0//EN
CALSCALE:GREGORIAN
BEGIN:VEVENT
DTEND:20180415T000000Z
UID: 69e678e3b919b
DTSTAMP:20260420T140507Z
LOCATION:Denkmann Memorial Building
DESCRIPTION:Soprano Nelle Conley will present a voice recital. She is a senior from DeKalb\, Ill.\, majoring in vocal music education.\n\nProgram:\n\n\n	\n		\n			\n			Die Landlust\n			Anne Bak\, cello\n			Sarah Lisak\, flute\n			\n			Georg Philipp Telemann (1681-1767)\n		\n		\n			Piangero la sorte mia&nbsp\;(Giulio Cesare)\n			George Frederick Handel (1685-1759)\n		\n		\n			Arietta\n			Edvard Grieg (1843-1907)\n		\n		\n			Chanson Triste\n			Henri Duparc (1848-1933)\n		\n		\n			Quando men vo&nbsp\;(La Boheme)\n			Giacomo Puccini (1858-1924)\n		\n		\n			Will There Really Be a Morning?\n			Ricky Ian Gordon (b. 1956)\n		\n		\n			The Red Dress\n			Ricky Ian Gordon (b. 1956)\n		\n		\n			Overweight\, Overwrought\, Over You\n			Thomas Pasatieri (b. 1945)\n		\n		\n			Mama Who Bore Me&nbsp\;(Spring Awakening)\n			Anna Basten\, Stephie Benito\, Jessica Holzknecht\, Amber Mraz\, Olivia Weismann\n			Duncan Sheik (b. 1969)\, arr. Lisa DeSpain\n		\n		\n			The Conley Trio:\n			Jen Conley\, Ellen Conley\, Nelle Conley\n			&nbsp\;\n		\n		\n			Blackbird\n			John Lennon and Paul McCartney\n		\n		\n			One Minute Madrigal\n			Donald Moore\n		\n		\n			One Voice\n			The Wailin' Jennys\n		\n	\n\n\n&nbsp\;\n
URL;VALUE=URI:https://augustana.edu/about-us/events/2018/senior-recital-nelle-conley-soprano
SUMMARY:Senior Recital: Nelle Conley\, soprano
DTSTART:20180415T000000Z
END:VEVENT
END:VCALENDAR
