BEGIN:VCALENDAR
VERSION:2.0
PRODID:-//hacksw/handcal//NONSGML v1.0//EN
CALSCALE:GREGORIAN
BEGIN:VEVENT
DTEND:20180421T220000Z
UID: 69e678a4daa09
DTSTAMP:20260420T140404Z
LOCATION:Denkmann Memorial Building
DESCRIPTION:Kathryn Krajewski will perform her senior recital on&nbsp\;viola.\n\nShe is from Downers Grove\, Ill.\, and is majoring in instrumental music performance.\n\nProgram\n\nAprès un Rêve\, Op. 7\, No. 1&nbsp\; &nbsp\; Gabriel Fauré (1845-1924)\nArr. by Wolfgang Birtel\n\nTrauermusik&nbsp\; &nbsp\; Paul Hindemith (1895-1963)\nLangsam-Ruhig bewegt-Lebhaft- Sehr langsam\n\nString Quartet in F Major\, No. 12\, Op. 96 (“American”)&nbsp\; &nbsp\; Antonín Dvořák (1841-1904)\nIII. Molto vivace\nIV. Finale: Vivace ma non troppo\n\nIntermission\n\nViola Concerto in D Major&nbsp\; &nbsp\;&nbsp\;Franz Anton Hoffmeister (1754-1812)\nI. Allegro\n\nFifteen Characteristic Studies&nbsp\; &nbsp\; Lillian Fuchs (1901-1995)\nXII. Amabile\n\nSuite Hébraïque\, B. 80&nbsp\; &nbsp\; Ernest Bloch (1880-1959)\nI. Rhapsodie\nII. Processional\nIII. Affirmation\n
URL;VALUE=URI:https://augustana.edu/about-us/events/2018/senior-recital-kathryn-krajewski-viola
SUMMARY:Senior recital: Kathryn Krajewski\, viola
DTSTART:20180421T220000Z
END:VEVENT
END:VCALENDAR
