BEGIN:VCALENDAR
VERSION:2.0
PRODID:-//hacksw/handcal//NONSGML v1.0//EN
CALSCALE:GREGORIAN
BEGIN:VEVENT
DTEND:20180421T003000Z
UID: 69e6789eed163
DTSTAMP:20260420T140358Z
LOCATION:Denkmann Memorial Building
DESCRIPTION:Kaitlin Pisarczyk will present a recital on saxophone.\n\nShe is a senior from Spring Valley\, Ill.\, majoring in music and psychology.\n\nProgram\n\nSyrinx&nbsp\; &nbsp\;&nbsp\;Claude Debussy (1862-1918)\nalto saxophone\n\nDeux Piéces pour Saxophone Alto et Piano&nbsp\; &nbsp\; Edison Densiov (1929-1996)\nKate Pisarczyk\, alto saxophone\nRobert Elfline\, piano\n\nLe Frêne Égaré&nbsp\; &nbsp\; Francois Rossé (b. 1945)\nalto saxophone\n\nPause\n\n“It’s a disorder\, not a decision”&nbsp\; &nbsp\; Kate Pisarczyk (b. 1995)\nI. “It’s like fire you cannot put out”\nSoprano saxophone\nII. “... It is not so much split as shattered..”\nAlto saxophone\nIII. “Who are you?”\nTenor saxophone\n(World Premiere)\n\n...necronebula...&nbsp\; &nbsp\;&nbsp\;Jonathon Kirk (b. 1975)\ntenor saxophone and tape\n\nImprovisation\nKali Yuga\nKate Pisarczyk\, saxophone\nLexie Aguilar\, saxophone\nMonica Gil\, clarinet\nCaitlin Thom\, harp\nJoshua Iyer\, violin\n
URL;VALUE=URI:https://augustana.edu/about-us/events/2018/student-recital-kaitlin-pisarczyk-saxophone
SUMMARY:Student recital: Kaitlin Pisarczyk\, saxophone
DTSTART:20180421T003000Z
END:VEVENT
END:VCALENDAR
