BEGIN:VCALENDAR
VERSION:2.0
PRODID:-//hacksw/handcal//NONSGML v1.0//EN
CALSCALE:GREGORIAN
BEGIN:VEVENT
DTEND:20180407T010000Z
UID: 69e6784a1e548
DTSTAMP:20260420T140234Z
LOCATION:The Gerber Center for Student Life
DESCRIPTION:Damascus Road will be hosting a Story Slam with the theme of "Captures\, Close Calls\, and Clean Getaways."\n\nPrepare your true\, five-minute story about finding yourself in a sticky situation. Pockets emptied to reveal contraband\, the release of a hidden booby trap\, all eyes in the lecture hall on you\, in the wrong place at the wrong time. Or tell a tale about sliding by\, zigging when they thought you would zag\, slipping through fingers\, walking right out the front door.&nbsp\;\n\nThe best story of the night (as voted by the audience) will walk away with a $25 Amazon card and the admiration of all.&nbsp\;\n\nShare your story\, listen to the stories of others\, and enjoy the music of the dR House Band.\n
URL;VALUE=URI:https://augustana.edu/about-us/events/2018/story-slam
SUMMARY:Story Slam
DTSTART:20180407T010000Z
END:VEVENT
END:VCALENDAR
