BEGIN:VCALENDAR
VERSION:2.0
PRODID:-//hacksw/handcal//NONSGML v1.0//EN
CALSCALE:GREGORIAN
BEGIN:VEVENT
DTEND:20190303T200000Z
UID: 69e5f629dc121
DTSTAMP:20260420T044721Z
LOCATION:Centennial Hall
DESCRIPTION:The&nbsp\;Quad City Symphony Orchestra&nbsp\;will present its fifth&nbsp\;Masterworks of the season: Beethoven's 5th Symphony. The program is presented in partnership with the German American Heritage Center &amp\; Museum.&nbsp\;\n\nThe program begins with Beethoven's Twelve German Dances\, followed by the Strauss Oboe Concerto\,&nbsp\;featuring Principal Oboe Andrew Parker. The program's then concludes with Beethoven's Symphony No. 5.&nbsp\;\n
URL;VALUE=URI:https://augustana.edu/about-us/events/2018/quad-city-symphony-orchestra-masterworks-v-beethovens-5th-symphony
SUMMARY:Quad City Symphony Orchestra Masterworks V: Beethoven's 5th Symphony
DTSTART:20190303T200000Z
END:VEVENT
END:VCALENDAR
