BEGIN:VCALENDAR
VERSION:2.0
PRODID:-//hacksw/handcal//NONSGML v1.0//EN
CALSCALE:GREGORIAN
BEGIN:VEVENT
DTEND:20211107T200000Z
UID: 69e5dfdc90a8e
DTSTAMP:20260420T031212Z
LOCATION:Centennial Hall
DESCRIPTION:The&nbsp\;Quad City Symphony Orchestra&nbsp\;will present Masterworks II: Fantasies and Fables\n\nProgram\n\nPrelude to "Hänsel und Gretel" by&nbsp\;Engelbert Humperdinck\, 1893\n\n"Frederick’s Fables\," text by Leo Lionni\, music by Michael Abels\, narration by&nbsp\;Shellie Moore Guy\n\n"Poem for Orchestra\," William Grant Still\n\n"Romeo and Juliet\, Fantasy-Overture\," Tchaikovsky\n\n&nbsp\;\n
URL;VALUE=URI:https://augustana.edu/about-us/events/2021/quad-city-symphony-orchestra-masterworksII
SUMMARY:Quad City Symphony Orchestra Masterworks II: Fantasies and Fables
DTSTART:20211107T200000Z
END:VEVENT
END:VCALENDAR
