BEGIN:VCALENDAR
VERSION:2.0
PRODID:-//hacksw/handcal//NONSGML v1.0//EN
CALSCALE:GREGORIAN
BEGIN:VEVENT
DTEND:20181018T130000Z
UID: 69e6705b7499a
DTSTAMP:20260420T132843Z
LOCATION:Quad City Tennis Club
DESCRIPTION:The Women's Tennis Team will be hosting the CCIW Championship at the Quad City Tennis Club. This event will take place all day.\n
URL;VALUE=URI:https://augustana.edu/about-us/events/2018/womens-tennis-vs-cciw-championships
SUMMARY:Women's Tennis vs. CCIW Championships
DTSTART:20181018T130000Z
END:VEVENT
END:VCALENDAR
