BEGIN:VCALENDAR
VERSION:2.0
PRODID:-//hacksw/handcal//NONSGML v1.0//EN
CALSCALE:GREGORIAN
BEGIN:VEVENT
DTEND:20220910T170000Z
UID: 69e66fcf6fc98
DTSTAMP:20260420T132623Z
LOCATION:Tennis Courts
DESCRIPTION:The Vikings will open their season's conference play at home vs. the Wheaton College Thunder\n\nAugustana will play an all-CCIW fall slate\, with one other individual tournament Sept. 30-Oct. 2 at the ITA Regional Championships in St. Louis.\n\nOther home matches:\n\nSept. 18 vs. Carroll\, 1:30 p.m.\n\nOct. 7 vs. North Central\, 3:30 p.m.\n\nOct. 8 vs. Elmhurst\n\nOct. 15 vs. Carthage\,&nbsp\;1 p.m.\n\nSpring matchups\, as well as information on the conference tournament\, will be announced at a later date.\n
URL;VALUE=URI:https://augustana.edu/about-us/events/2022/womens-tennis-vs-wheaton
SUMMARY:Women's tennis vs. Wheaton
DTSTART:20220910T170000Z
END:VEVENT
END:VCALENDAR
