BEGIN:VCALENDAR
VERSION:2.0
PRODID:-//hacksw/handcal//NONSGML v1.0//EN
CALSCALE:GREGORIAN
BEGIN:VEVENT
DTEND:20181128T230000Z
UID: 69e66f20a89da
DTSTAMP:20260420T132328Z
LOCATION:Carver P.E. Center
DESCRIPTION:The Women's Basketball Team will go against the University of Wisconsin-Whitewater in the first home game of the season.&nbsp\;\n
URL;VALUE=URI:https://augustana.edu/about-us/events/2018/womens-basketball-vs-wisconsin-whitewater
SUMMARY:Women's Basketball vs. Wisconsin-Whitewater
DTSTART:20181128T230000Z
END:VEVENT
END:VCALENDAR
