BEGIN:VCALENDAR
VERSION:2.0
PRODID:-//hacksw/handcal//NONSGML v1.0//EN
CALSCALE:GREGORIAN
BEGIN:VEVENT
DTEND:20190117T010000Z
UID: 69e66e98e13c1
DTSTAMP:20260420T132112Z
LOCATION:Carver P.E. Center
DESCRIPTION:The Viking women will take on league-leading Wheaton College in a home basketball matchup.\n\nWatch live\n\nAugustana is 10-6 overall and 4-3 in the CCIW.&nbsp\;\n
URL;VALUE=URI:https://augustana.edu/about-us/events/2018/womens-basketball-vs-wheaton
SUMMARY:Women's basketball vs. Wheaton
DTSTART:20190117T010000Z
END:VEVENT
END:VCALENDAR
