BEGIN:VCALENDAR
VERSION:2.0
PRODID:-//hacksw/handcal//NONSGML v1.0//EN
CALSCALE:GREGORIAN
BEGIN:VEVENT
DTEND:20190131T233000Z
UID: 69e66c2d5d988
DTSTAMP:20260420T131053Z
LOCATION:Carver P.E. Center
DESCRIPTION:The women's basketball game between Augustana and Elmhurst originally scheduled for Jan. 30 has been postponed until Thursday\, Jan.&nbsp\;31\, due to a forecast of all-time record low temperatures.\n\nThe Vikings (11-9\, 5-6) and Bluejays (8-11\, 4-6) will tip off at 7&nbsp\;p.\n
URL;VALUE=URI:https://augustana.edu/about-us/events/2018/womens-basketball-vs-elmhurst
SUMMARY:Women's basketball vs. Elmhurst
DTSTART:20190131T233000Z
END:VEVENT
END:VCALENDAR
