BEGIN:VCALENDAR
VERSION:2.0
PRODID:-//hacksw/handcal//NONSGML v1.0//EN
CALSCALE:GREGORIAN
BEGIN:VEVENT
DTEND:20180922T180000Z
UID: 69e822bb661a7
DTSTAMP:20260421T202203Z
LOCATION:Centennial Hall
DESCRIPTION:This concert will provide a brief taste of three of our performing ensembles — the Augustana Choir\, Jenny Lind Vocal Ensemble and Augustana Concert Chorale.&nbsp\;\n
URL;VALUE=URI:https://augustana.edu/about-us/events/2018/family-weekend-choral-concert
SUMMARY:Family Weekend Choral Concert
DTSTART:20180922T180000Z
END:VEVENT
END:VCALENDAR
