BEGIN:VCALENDAR
VERSION:2.0
PRODID:-//hacksw/handcal//NONSGML v1.0//EN
CALSCALE:GREGORIAN
BEGIN:VEVENT
DTEND:20190209T010000Z
UID: 69e97b6785f87
DTSTAMP:20260422T205239Z
LOCATION:The Gerber Center for Student Life
DESCRIPTION:Live on Campus will feature Eva Schmitt\, David Nevarez\, and Urvaksh Avanthsa.&nbsp\;\n\nSchmitt is a freshman from Geneseo\, Ill.\, and is a member of the Jenny Lind Choir.\n\nNevarez and Avanthsa are both sophomores from the Phi Omega Phi fraternity. Nevarez is majoring in pre-medicine and biochemistry while Avanthsa is majoring in pre-medicine and neuroscience.\n\nStudents are invited to come watch their fellow students perform and enjoy free wings.\n
URL;VALUE=URI:https://augustana.edu/about-us/events/2018/live-campus-2
SUMMARY:Live on Campus
DTSTART:20190209T010000Z
END:VEVENT
END:VCALENDAR
