BEGIN:VCALENDAR
VERSION:2.0
PRODID:-//hacksw/handcal//NONSGML v1.0//EN
CALSCALE:GREGORIAN
BEGIN:VEVENT
DTEND:20181020T000000Z
UID: 69ec2b87c3328
DTSTAMP:20260424T214839Z
LOCATION:Wallenberg Hall
DESCRIPTION:
URL;VALUE=URI:https://augustana.edu/about-us/events/2018/augies-top-voice
SUMMARY:Augie's Top Voice
DTSTART:20181020T000000Z
END:VEVENT
END:VCALENDAR
