BEGIN:VCALENDAR
VERSION:2.0
PRODID:-//hacksw/handcal//NONSGML v1.0//EN
CALSCALE:GREGORIAN
BEGIN:VEVENT
DTEND:20190505T200000Z
UID: 69ec27b6c7e97
DTSTAMP:20260424T213222Z
LOCATION:Centennial Hall
DESCRIPTION:UNYK\, the multicultural dance troup at Augustana welcome everybody onboard on our time travel wagon this Spring. Our dancing timekeepers will take you back to experience some of the most famous rhythms throughout music history along with exciting multicultural songs from around the world.\n
URL;VALUE=URI:https://augustana.edu/about-us/events/2018/unyk-performance
SUMMARY:UNYK Performance
DTSTART:20190505T200000Z
END:VEVENT
END:VCALENDAR
