BEGIN:VCALENDAR
VERSION:2.0
PRODID:-//hacksw/handcal//NONSGML v1.0//EN
CALSCALE:GREGORIAN
BEGIN:VEVENT
DTEND:20190209T023000Z
UID: 69e936471c94b
DTSTAMP:20260422T155743Z
LOCATION:Brunner Theatre Center
DESCRIPTION:Alpha Psi Omega will present the 15th annual production of Eve Ensler's play "The Vagina Monologues" to raise funds to prevent violence toward women.\n
URL;VALUE=URI:https://augustana.edu/about-us/events/2018/vagina-monologues-0
SUMMARY:The Vagina Monologues
DTSTART:20190209T023000Z
END:VEVENT
END:VCALENDAR
