BEGIN:VCALENDAR
VERSION:2.0
PRODID:-//hacksw/handcal//NONSGML v1.0//EN
CALSCALE:GREGORIAN
BEGIN:VEVENT
DTEND:20190209T190000Z
UID: 69e936576992d
DTSTAMP:20260422T155759Z
LOCATION:Brunner Theatre Center
DESCRIPTION:Alpha Psi Omega will present the 15th annual production of Eve Ensler's play "The Vagina Monologues" to raise funds to prevent violence toward women.\n
URL;VALUE=URI:https://augustana.edu/about-us/events/2018/vagina-monologues-1
SUMMARY:The Vagina Monologues
DTSTART:20190209T190000Z
END:VEVENT
END:VCALENDAR
