BEGIN:VCALENDAR
VERSION:2.0
PRODID:-//hacksw/handcal//NONSGML v1.0//EN
CALSCALE:GREGORIAN
BEGIN:VEVENT
DTEND:20190506T000000Z
UID: 69e93631ea97e
DTSTAMP:20260422T155721Z
LOCATION:
DESCRIPTION:The Augustana Percussion Ensemble will present the "Education Concert: Future Leaders of Tomorrow Today."\n\nProgram\n\nBucketheads (2005) — Jane Boxall (living)\n\n4/4 for Four (1972) —Anthony Cirone (living)\n\nOscillate (2019) — Kellen Myers (living)\n\nBossa Novacaine (1963) — Thomas L. Davis (1931-2011)\nfeaturing members of the EDMU 276 “Percussion Methods” Class\n\nParallax (1991) — James Romig (living)\n\nSnakes (2003) from "Short\, But Suite" — Tony Oliver (living)\n\nPopcorn (1971) — Gershon Kingsley (living)\n\nFred No Frevo (1992) — Ney Rosauro (living)\n\nAugustana Percussion Ensemble\n\nCaitlyn Costner\nCamille Harris\nCameran Frank\nVictoria Frank\nMichael Gille\nAriane Omerza\nClaire Schaecher\nAnnika Strack\nKathryn Weber\n\nMembers of“Percussion Methods” Class\n\nSarah Anderson\nAndrew Bradshaw\nJeana Brown\nKelsey Bumann\nRami Halabi\nKendall Hengst\nCurtis Marek\nLuke McMillan\nAriane Omerza\nAllison Rodwell\nChristine Rogers\nAnthony Roldan\nEric Tabaka\nEmily Watts\nAllessandra West\nLaura Whitaker\n
URL;VALUE=URI:https://augustana.edu/about-us/events/2018/augustana-percussion-ensemble-concert
SUMMARY:Augustana Percussion Ensemble concert
DTSTART:20190506T000000Z
END:VEVENT
END:VCALENDAR
