BEGIN:VCALENDAR
VERSION:2.0
PRODID:-//hacksw/handcal//NONSGML v1.0//EN
CALSCALE:GREGORIAN
BEGIN:VEVENT
DTEND:20190128T010000Z
UID: 69e936e37cfca
DTSTAMP:20260422T160019Z
LOCATION:
DESCRIPTION:Augustana Percussion Ensemble's concert entitled "Minimal Efforts" will feature music by Steve Reich\, Peter Garland\, Daniel Dorff\,&nbsp\;Nebojša Živković and&nbsp\;William Schinstine. The ensemble is directed by&nbsp\;Tony Oliver.\n\nEnsemble members are&nbsp\;Caitlyn Costner\,&nbsp\;Camille Harris\,&nbsp\;Cameran Frank\,&nbsp\;Victoria Frank\,&nbsp\;Michael Gille\,&nbsp\;Ariane Omerza\,&nbsp\;Claire Schaecher\,&nbsp\;Annika Strack and&nbsp\;Kathryn Weber.\n\nProgram\n\nMusic for Pieces of Wood (1973)\;&nbsp\;Steve Reich (b. 1936)\n\nApple Blossom (1972)\; Peter Garland (b. 1952)\n\nA Moment of Gratitude:&nbsp\;The Augustana Percussion Ensemble Thanks Mr. Gordon Warren for his Generosity to&nbsp\;Augustana Percussion\n\nDance Etude No. 2 (1985)\; Daniel Dorff (b. 1956)\n\nTrio per Uno (1998/1999)\; Nebojša Živković (b. 1962)\nPart III\nAriane Omerza\, Claire Schaecher\, Annika Strack\n\nRock Trap (1977)\; William Schinstine (1922-1986)\n\n&nbsp\;\n
URL;VALUE=URI:https://augustana.edu/about-us/events/2018/augustana-percussion-ensemble-minimal-efforts
SUMMARY:Augustana Percussion Ensemble: 'Minimal Efforts'
DTSTART:20190128T010000Z
END:VEVENT
END:VCALENDAR
