BEGIN:VCALENDAR
VERSION:2.0
PRODID:-//hacksw/handcal//NONSGML v1.0//EN
CALSCALE:GREGORIAN
BEGIN:VEVENT
DTEND:20190324T000000Z
UID: 69e936e3814e7
DTSTAMP:20260422T160019Z
LOCATION:Denkmann Memorial Building
DESCRIPTION:Abigail Roselieb\, soprano\, will be performing her senior recital. She is from Darien\, Ill.\, and is majoring in vocal music performance and anthropology.\n
URL;VALUE=URI:https://augustana.edu/about-us/events/2018/senior-recital-abigail-roselieb
SUMMARY:Senior recital- Abigail Roselieb
DTSTART:20190324T000000Z
END:VEVENT
END:VCALENDAR
