BEGIN:VCALENDAR
VERSION:2.0
PRODID:-//hacksw/handcal//NONSGML v1.0//EN
CALSCALE:GREGORIAN
BEGIN:VEVENT
DTEND:20190323T003000Z
UID: 69eaae5d0f527
DTSTAMP:20260423T184221Z
LOCATION:Denkmann Memorial Building
DESCRIPTION:Lexi Aguilar will perform the saxophone for her senior recital\, accompanied by Charles Schmidt and Juliana Han on the piano. She is from LeClaire\, Iowa\, majoring in French and instrumental music performance.\n\nAguilar plays in the Augustana Symphonic Band\, jazz ensemble\, Kali Yuga free improvisation ensemble\, the Augustana Saxophone Quartet and has appeared with the Augustana Symphony.\n\nProgram\n\nElégie et Rondeau — Karel Husa (1921-2016)\n\nSequenza VIIb — Luciano Berio (1925-2003)\n\nRapsodie — Claude Debussy (arr. V. David)(1862-1918)\n\nConcerto for Saxophone and Orchestra — Henri Tomasi (1901-1971)\n\nI. Andante et Allegro\nII. Final - Giration\n
URL;VALUE=URI:https://augustana.edu/about-us/events/2018/senior-recital-lexi-aguilar-saxophone
SUMMARY:Senior recital: Lexi Aguilar\, saxophone
DTSTART:20190323T003000Z
END:VEVENT
END:VCALENDAR
