BEGIN:VCALENDAR
VERSION:2.0
PRODID:-//hacksw/handcal//NONSGML v1.0//EN
CALSCALE:GREGORIAN
BEGIN:VEVENT
DTEND:20190406T003000Z
UID: 69eaae8d6e07d
DTSTAMP:20260423T184309Z
LOCATION:Denkmann Memorial Building
DESCRIPTION:Amy Croft will be performing a vocal recital. She is a senior from Elburn\, Ill.\, majoring in vocal music education.\n
URL;VALUE=URI:https://augustana.edu/about-us/events/2018/senior-recital-amy-croft-voice
SUMMARY:Senior recital — Amy Croft\, voice
DTSTART:20190406T003000Z
END:VEVENT
END:VCALENDAR
