BEGIN:VCALENDAR
VERSION:2.0
PRODID:-//hacksw/handcal//NONSGML v1.0//EN
CALSCALE:GREGORIAN
BEGIN:VEVENT
DTEND:20180829T003000Z
UID: 69e65d2f11bc0
DTSTAMP:20260420T120655Z
LOCATION:Denkmann Memorial Building
DESCRIPTION:Augustana's Dr. Robert Elfline\, piano\, will perform with guest artist&nbsp\;Dr. Kim Rooney Hagelstein\, French horn\n\nDr. Hagelstein is the visiting assistant professor of horn at Tarleton State University in Texas. She has performed in six countries and nearly every state in the U.S. In addition to teaching\, Dr. Hagelstein performs regularly with groups including the Waco Symphony Orchestra\, the Lone Star Wind Orchestra\, and the LSWO Brass Quintet.\n\nShe has a B.M. from the University of Missouri-Columbia\, and and M.M. and D.M.A. from the University of Cincinnati College-Conservatory of Music.\n
URL;VALUE=URI:https://augustana.edu/about-us/events/2018/guest-artist-kim-rooney-hagelstein
SUMMARY:Guest artist: Kim Rooney Hagelstein
DTSTART:20180829T003000Z
END:VEVENT
END:VCALENDAR
