BEGIN:VCALENDAR
VERSION:2.0
PRODID:-//hacksw/handcal//NONSGML v1.0//EN
CALSCALE:GREGORIAN
BEGIN:VEVENT
DTEND:20180831T000000Z
UID: 69eadf75ba075
DTSTAMP:20260423T221149Z
LOCATION:Old Main 
DESCRIPTION:Students are invited to the first meeting of Disney Club from 7-9 p.m.. There will be games\, snacks\, crafts\, and other activities planned.\n
URL;VALUE=URI:https://augustana.edu/about-us/events/2018/disney-club
SUMMARY:Disney Club
DTSTART:20180831T000000Z
END:VEVENT
END:VCALENDAR
