BEGIN:VCALENDAR
VERSION:2.0
PRODID:-//hacksw/handcal//NONSGML v1.0//EN
CALSCALE:GREGORIAN
BEGIN:VEVENT
DTEND:20180915T000000Z
UID: 69eae031dfe99
DTSTAMP:20260423T221457Z
LOCATION:The Gerber Center for Student Life
DESCRIPTION:Students are invitied to a night of comedy featuring Jade Catta-Preta\, a Brazilian born comedian and actress. She performs all over the country and has been seen in MTV's&nbsp\;Girl Code\,&nbsp\;Ladylike\, and guest starred on&nbsp\;Modern Family.&nbsp\;\n
URL;VALUE=URI:https://augustana.edu/about-us/events/2018/comedy-club-jade-catta-preta
SUMMARY:Comedy Club: Jade Catta-Preta
DTSTART:20180915T000000Z
END:VEVENT
END:VCALENDAR
