BEGIN:VCALENDAR
VERSION:2.0
PRODID:-//hacksw/handcal//NONSGML v1.0//EN
CALSCALE:GREGORIAN
BEGIN:VEVENT
DTEND:20180823T143000Z
UID: 69e9f1f91b533
DTSTAMP:20260423T051833Z
LOCATION:The Gerber Center for Student Life
DESCRIPTION:President Steve Bahls will be available to talk or answer questions from students.\n\nStop by\, say hello and talk about what's on your mind.\n\nHe will have another office hour from 3-4 p.m.&nbsp\;Aug. 30.\n
URL;VALUE=URI:https://augustana.edu/about-us/events/2018/presidents-open-office-hour-2
SUMMARY:President's open office hour
DTSTART:20180823T143000Z
END:VEVENT
END:VCALENDAR
