BEGIN:VCALENDAR
VERSION:2.0
PRODID:-//hacksw/handcal//NONSGML v1.0//EN
CALSCALE:GREGORIAN
BEGIN:VEVENT
DTEND:20180828T140000Z
UID: 69e9f1d6c9fcd
DTSTAMP:20260423T051758Z
LOCATION:Bahls Campus Leadership Center
DESCRIPTION:Dean of Students Wes Brooks will hold an open office hour for students.\n\nHe also will have open office from 2-4 p.m. Aug. 29.\n\n&nbsp\;\n
URL;VALUE=URI:https://augustana.edu/about-us/events/2018/dean-students-open-office-hour-8-28-18
SUMMARY:Dean of students' open office hour
DTSTART:20180828T140000Z
END:VEVENT
END:VCALENDAR
