BEGIN:VCALENDAR
VERSION:2.0
PRODID:-//hacksw/handcal//NONSGML v1.0//EN
CALSCALE:GREGORIAN
BEGIN:VEVENT
DTEND:20180824T010000Z
UID: 69e5f2b081ebe
DTSTAMP:20260420T043232Z
LOCATION:Westerlin Residence Center
DESCRIPTION:UNYK invites all students to the first meeting of the year. No experience is needed and UNYK choreographers will present a few dances they have created this year.\n
URL;VALUE=URI:https://augustana.edu/about-us/events/2018/unyk-meeting
SUMMARY:UNYK meeting
DTSTART:20180824T010000Z
END:VEVENT
END:VCALENDAR
