BEGIN:VCALENDAR
VERSION:2.0
PRODID:-//hacksw/handcal//NONSGML v1.0//EN
CALSCALE:GREGORIAN
BEGIN:VEVENT
DTEND:20180824T000000Z
UID: 69e7d58b03174
DTSTAMP:20260421T145243Z
LOCATION:Old Main 
DESCRIPTION:The Local Agriculture Society will have its first meeting of the year. All are welcome. The group will meet at Old Main and then walk to Augie Acres around 7:30.\n\nTopics of ALAS interest:\n\n-The Wealth from Waste Compost Initiative\n-The Edible Campus Initiative\n-The Augie Apiary\n-Addressing systemic food access issues in the USA and abroad\n-Growing\, cooking\, and/or eating chemical-free food\n-Making great friends while weeding\n-Soil biology\n-Active carbon sequestration\n&nbsp\;\n
URL;VALUE=URI:https://augustana.edu/about-us/events/2018/local-agriculture-society-first-meeting
SUMMARY:Local Agriculture Society first meeting
DTSTART:20180824T000000Z
END:VEVENT
END:VCALENDAR
