BEGIN:VCALENDAR
VERSION:2.0
PRODID:-//hacksw/handcal//NONSGML v1.0//EN
CALSCALE:GREGORIAN
BEGIN:VEVENT
DTEND:20180822T153000Z
UID: 69e5f67918835
DTSTAMP:20260420T044841Z
LOCATION:The Gerber Center for Student Life
DESCRIPTION:Dr. Wes Brooks has joined the Augustana community as the new vice president and dean of student life. All are invited to a reception to welcome him.&nbsp\;\n\nDr. Brooks most recently served as vice president for student development and dean of students at Iowa Wesleyan University in Mt. Pleasant. He has served in leadership roles at Wartburg College and Grand View University as well. His first day at Augustana was Aug. 13.\n&nbsp\;\n
URL;VALUE=URI:https://augustana.edu/about-us/events/2018/welcome-dr-wes-brooks
SUMMARY:Welcome Dr. Wes Brooks
DTSTART:20180822T153000Z
END:VEVENT
END:VCALENDAR
