BEGIN:VCALENDAR
VERSION:2.0
PRODID:-//hacksw/handcal//NONSGML v1.0//EN
CALSCALE:GREGORIAN
BEGIN:VEVENT
DTEND:20180827T213000Z
UID: 69e5f2ffb78bb
DTSTAMP:20260420T043351Z
LOCATION:Olin Center for Educational Technology
DESCRIPTION:
URL;VALUE=URI:https://augustana.edu/about-us/events/2018/advertising-developer-ads-meeting
SUMMARY:Advertising Developer (ADs) meeting
DTSTART:20180827T213000Z
END:VEVENT
END:VCALENDAR
