BEGIN:VCALENDAR
VERSION:2.0
PRODID:-//hacksw/handcal//NONSGML v1.0//EN
CALSCALE:GREGORIAN
BEGIN:VEVENT
DTEND:20180825T170000Z
UID: 69eb6ad656b09
DTSTAMP:20260424T080630Z
LOCATION:Lower Quad
DESCRIPTION:The Multicultural Programming Board will host its annual&nbsp\;Culture Fest&nbsp\;with Ballet Folklorico\, the Metro Youth Group\, an unlimited photo booth\, and food and music. Events will run from noon-5 p.m.\n
URL;VALUE=URI:https://augustana.edu/about-us/events/2018/culture-fest
SUMMARY:Culture Fest
DTSTART:20180825T170000Z
END:VEVENT
END:VCALENDAR
