BEGIN:VCALENDAR
VERSION:2.0
PRODID:-//hacksw/handcal//NONSGML v1.0//EN
CALSCALE:GREGORIAN
BEGIN:VEVENT
DTEND:20181019T230000Z
UID: 69e5158161d4a
DTSTAMP:20260419T124849Z
LOCATION:The Gerber Center for Student Life
DESCRIPTION:The Office of International Student Life invites all student to join in a campus celebration of the Indian holiday\, Diwali. Hosted activities will include cultural dances\, speakers\, food\, and other forms of fun and engaged learning about the festival.\n
URL;VALUE=URI:https://augustana.edu/about-us/events/2018/diwali
SUMMARY:Diwali
DTSTART:20181019T230000Z
END:VEVENT
END:VCALENDAR
