BEGIN:VCALENDAR
VERSION:2.0
PRODID:-//hacksw/handcal//NONSGML v1.0//EN
CALSCALE:GREGORIAN
BEGIN:VEVENT
DTEND:20180830T213000Z
UID: 69e51474857f6
DTSTAMP:20260419T124420Z
LOCATION:Olin Center for Educational Technology
DESCRIPTION:Habitat at Augie invites all students to the first meeting this Thursday.\n
URL;VALUE=URI:https://augustana.edu/about-us/events/2018/habitat-humanity
SUMMARY:Habitat for Humanity
DTSTART:20180830T213000Z
END:VEVENT
END:VCALENDAR
