BEGIN:VCALENDAR
VERSION:2.0
PRODID:-//hacksw/handcal//NONSGML v1.0//EN
CALSCALE:GREGORIAN
BEGIN:VEVENT
DTEND:20180830T230000Z
UID: 69e515ee98859
DTSTAMP:20260419T125038Z
LOCATION:Black Culture House
DESCRIPTION:The Office of Student Inclusion &amp\; Diversity invites students&nbsp\;to&nbsp\;The Kickback&nbsp\;this&nbsp\;Thursday\, Aug. 30\, from 6-8 p.m. at the Black Culture House (near Gerber Center).&nbsp\;\n\nEnjoy free food\, socialize and learn more about&nbsp\;Sisterhood of Unique Ladies (SOUL) and Multicultural Men's Association (MMA).&nbsp\;SOUL and MMA&nbsp\;&nbsp\;are empowerment groups created just for the&nbsp\;women and men of color on campus.\n
URL;VALUE=URI:https://augustana.edu/about-us/events/2018/kickback-welcome-social
SUMMARY:The Kickback welcome social
DTSTART:20180830T230000Z
END:VEVENT
END:VCALENDAR
