BEGIN:VCALENDAR
VERSION:2.0
PRODID:-//hacksw/handcal//NONSGML v1.0//EN
CALSCALE:GREGORIAN
BEGIN:VEVENT
DTEND:20180904T153000Z
UID: 69e51625b525a
DTSTAMP:20260419T125133Z
LOCATION:Carlsson Evald Hall
DESCRIPTION:Students are invited to learn about the club and find out about this year's activities.\n
URL;VALUE=URI:https://augustana.edu/about-us/events/2018/psychology-club-meeting
SUMMARY:Psychology Club meeting
DTSTART:20180904T153000Z
END:VEVENT
END:VCALENDAR
