BEGIN:VCALENDAR
VERSION:2.0
PRODID:-//hacksw/handcal//NONSGML v1.0//EN
CALSCALE:GREGORIAN
BEGIN:VEVENT
DTEND:20180901T153000Z
UID: 69e517f44edbd
DTSTAMP:20260419T125916Z
LOCATION:Loud Thunder Forest Preserve
DESCRIPTION:Due to pending inclement weather\, the&nbsp\;Lake George Labor Day Getaway has been canceled. The event will not be rescheduled because&nbsp\;the lake is closing after Labor Day.\n&nbsp\;\n
URL;VALUE=URI:https://augustana.edu/about-us/events/2018/lake-george-getaway-canceled
SUMMARY:Lake George Getaway canceled
DTSTART:20180901T153000Z
END:VEVENT
END:VCALENDAR
