BEGIN:VCALENDAR
VERSION:2.0
PRODID:-//hacksw/handcal//NONSGML v1.0//EN
CALSCALE:GREGORIAN
BEGIN:VEVENT
DTEND:20180906T020000Z
UID: 69e517a51e8c3
DTSTAMP:20260419T125757Z
LOCATION:Olin Center for Educational Technology
DESCRIPTION:Camp Kesem invites all students to come to the first meeting of the year. Camp Kesem is a national organization that puts ona&nbsp\; free week of camp for kids who have been touched by a parent's cancer. There will be free cookies\, merchandise\, and information for those that are interested.\n
URL;VALUE=URI:https://augustana.edu/about-us/events/2018/camp-kesem-first-meeting
SUMMARY:Camp Kesem first meeting
DTSTART:20180906T020000Z
END:VEVENT
END:VCALENDAR
