BEGIN:VCALENDAR
VERSION:2.0
PRODID:-//hacksw/handcal//NONSGML v1.0//EN
CALSCALE:GREGORIAN
BEGIN:VEVENT
DTEND:20181013T160000Z
UID: 69e5173de835d
DTSTAMP:20260419T125613Z
LOCATION:PepsiCo Recreation Center
DESCRIPTION:The Fencing Club will offer a free clinic for Augustana students\, faculty and staff and their children age 8 and older from&nbsp\;11 a.m.-1 p.m.&nbsp\;Oct. 13&nbsp\;in the Pepsico Rec Center.\n\nAll equipment will be provided. Make sure to wear workout clothes and gym shoes and to bring water with you.&nbsp\;\n\nThis form must be printed off and filled out for every person who wants to participate in the clinic.\n\nhttps://www.augustana.edu/files/2018-08/informed_consent.pdf\n\nWe will be meeting on Court No. 3\, which is the furthest court from the front entrance.\n
URL;VALUE=URI:https://augustana.edu/about-us/events/2018/fencing-club-clinic
SUMMARY:Fencing Club Clinic
DTSTART:20181013T160000Z
END:VEVENT
END:VCALENDAR
