BEGIN:VCALENDAR
VERSION:2.0
PRODID:-//hacksw/handcal//NONSGML v1.0//EN
CALSCALE:GREGORIAN
BEGIN:VEVENT
DTEND:20181130T010000Z
UID: 69e6acaa61b09
DTSTAMP:20260420T174602Z
LOCATION:John Deere Planetarium and Carl Gamble Observatory
DESCRIPTION:This fall's Center for Polar Studies lecture at Augustana will examine the Arctic's histories of science and colonialism in light of current thinking on climate change.\n\nDr. Andrew Stuhl\, assistant professor of environmental studies at Bucknell University\, will give the talk\, "Unfreezing the Arctic: Historical Perspectives on Arctic Futures."\n\nDr. Stuhl is the author of "Unfreezing the Arctic: Science\, Colonialism\, and the Transformation of Inuit Lands\," and of several articles\, essays\, and book chapters on Arctic environmental history and contemporary Arctic affairs. As part of his research\, he spent two years living and working in the Arctic town of Inuvik\, Northwest Territories.&nbsp\;\n\nThe Center for Polar Studies promotes and supports polar research and scholarship at Augustana and in the broader academic community.\n
URL;VALUE=URI:https://augustana.edu/about-us/events/2018/unfreezing-arctic-historical-perspectives-arctic-futures
SUMMARY:Unfreezing the Arctic: Historical Perspectives on Arctic Futures
DTSTART:20181130T010000Z
END:VEVENT
END:VCALENDAR
