BEGIN:VCALENDAR
VERSION:2.0
PRODID:-//hacksw/handcal//NONSGML v1.0//EN
CALSCALE:GREGORIAN
BEGIN:VEVENT
DTEND:20190202T230000Z
UID: 69e70112e5139
DTSTAMP:20260420T234610Z
LOCATION:The River's Edge
DESCRIPTION:Augustana's men's hockey team will go against the University of St. Thomas at home. Parking and admission are free.\n
URL;VALUE=URI:https://augustana.edu/about-us/events/2018/mens-hockey-vs-u-st-thomas-0
SUMMARY:Men's hockey vs. U of St. Thomas
DTSTART:20190202T230000Z
END:VEVENT
END:VCALENDAR
