BEGIN:VCALENDAR
VERSION:2.0
PRODID:-//hacksw/handcal//NONSGML v1.0//EN
CALSCALE:GREGORIAN
BEGIN:VEVENT
DTEND:20181017T213000Z
UID: 69e7498a6f051
DTSTAMP:20260421T045522Z
LOCATION:Olin Center for Educational Technology
DESCRIPTION:The Office of Student Inclusion and Diversity offers a workshop on how to be successful at grad school for students trying to decide if graduate school is an option. Space is limited on a first come\, first served basis and priority will be given to juniors and seniors. All are welcome and encouraged to sign up.\n\nSessions take place from 4:30-5:30 p.m. and there will be free food.\n
URL;VALUE=URI:https://augustana.edu/about-us/events/2018/grad-school-series-how-be-successful-grad-school
SUMMARY:Grad School Series: How to Be Successful in Grad School
DTSTART:20181017T213000Z
END:VEVENT
END:VCALENDAR
