BEGIN:VCALENDAR
VERSION:2.0
PRODID:-//hacksw/handcal//NONSGML v1.0//EN
CALSCALE:GREGORIAN
BEGIN:VEVENT
DTEND:20181018T233000Z
UID: 69e749839148b
DTSTAMP:20260421T045515Z
LOCATION:Figge Art Museum
DESCRIPTION:Dr. Randall Hall and Augustana's Kali Yuga improvisation ensemble will explore the acoustic possibilities of the Figge Art Museum while considering the artistic influences of the French Modern era that have helped shape the music today.&nbsp\;\n\nPerformers will be at stations throughout the museum to create a changing frame of reference as the listener moves through the museum\, creating a sort of Cubist collage in sound\, which interacts with the visual images on display.\n\nThe event is in conjunction with the museum's current exhibit\, "French Moderns: Monet to Matisse\, 1850-1950."\n
URL;VALUE=URI:https://augustana.edu/about-us/events/2018/kali-yuga-improvisation-ensemble
SUMMARY:Kali Yuga Improvisation Ensemble
DTSTART:20181018T233000Z
END:VEVENT
END:VCALENDAR
