BEGIN:VCALENDAR
VERSION:2.0
PRODID:-//hacksw/handcal//NONSGML v1.0//EN
CALSCALE:GREGORIAN
BEGIN:VEVENT
DTEND:20181016T150000Z
UID: 69e75559efc7a
DTSTAMP:20260421T054545Z
LOCATION:
DESCRIPTION:The Center for Creativity invites campus to the official opening of the center's CATalyst&nbsp\; Lab from 10 a.m.-1 p.m. in Bergendoff 103.\n\nThere will be an opening toast&nbsp\; at 11:45 and refreshments.&nbsp\;\n\nThe CatLab is &nbsp\;a place for making and doing. It’s a &nbsp\;place for students and faculty to think\, reflect\, and discuss\, to find community\, collaboration\, and encouragement\, and to experiment\, try\, fail\, and try again.&nbsp\;\n\n&nbsp\;\n
URL;VALUE=URI:https://augustana.edu/about-us/events/2018/center-creativity-catalyst-lab-opening
SUMMARY:Center for Creativity CATalyst Lab opening
DTSTART:20181016T150000Z
END:VEVENT
END:VCALENDAR
