BEGIN:VCALENDAR
VERSION:2.0
PRODID:-//hacksw/handcal//NONSGML v1.0//EN
CALSCALE:GREGORIAN
BEGIN:VEVENT
DTEND:20190223T013000Z
UID: 69e9363cb7a76
DTSTAMP:20260422T155732Z
LOCATION:Brunner Theatre Center
DESCRIPTION:Augustana College and the Center for Living Arts are partnering again for the third annual Penguin Project of the Quad Cities’ presentation. This year’s show is “Seussical Jr.”&nbsp\;It is a condensed version of "Seussical\," based on the children's stories of Dr. Seuss. It debuted on Broadway in 2000.\n\nThe Penguin Project of the Quad Cities\, Augustana's chapter of the national organization\, gives children with special needs a chance to develop creative skills in the theatre arts.&nbsp\;Shows will be presented at Augustana College’s Brunner Theatre Feb. 22-24 and March 1-3. Friday and Saturday shows are at 7:30 p.m.\, and Sunday matinees are at 1:30 p.m.\n
URL;VALUE=URI:https://augustana.edu/about-us/events/2018/penguin-project-seussical-jr-sold-out
SUMMARY:Penguin Project: Seussical Jr. (sold out)
DTSTART:20190223T013000Z
END:VEVENT
END:VCALENDAR
