BEGIN:VCALENDAR
VERSION:2.0
PRODID:-//hacksw/handcal//NONSGML v1.0//EN
CALSCALE:GREGORIAN
BEGIN:VEVENT
DTEND:20181128T000000Z
UID: 69ea319937b03
DTSTAMP:20260423T095001Z
LOCATION:Edison's Entertainment Complex
DESCRIPTION:Alumni\, parents and friends are invited to a reception&nbsp\;with prospective students from the St. Louis area.\n\nThe reception will be held from 6-8 p.m. at Edison's Entertainment Complex\, 2477 S. State Route 157\, Edwardsville\, Ill. Hors d'oeuvres will be served. The reception is generously hosted by Matt ’84 and Mindy McSparin.\n
URL;VALUE=URI:https://augustana.edu/about-us/events/2018/st-louis-area-reception
SUMMARY:St. Louis-area reception
DTSTART:20181128T000000Z
END:VEVENT
END:VCALENDAR
