BEGIN:VCALENDAR
VERSION:2.0
PRODID:-//hacksw/handcal//NONSGML v1.0//EN
CALSCALE:GREGORIAN
BEGIN:VEVENT
DTEND:20181113T223400Z
UID: 69eae4df74df9
DTSTAMP:20260423T223455Z
LOCATION:Olin Center for Educational Technology
DESCRIPTION:Informational sessions are scheduled in November for various study away programs. All meetings are in Olin 109.\n&nbsp\;\n10:30 a.m. Nov. 13\n\nStudy away in the arts (art\, art history\, graphic design\, music\, theater)\n\n4:30 p.m. Nov. 13\n\nInternships in the U.S. and abroad (semester or summer)\n&nbsp\;\n10:30 a.m. Nov. 15\n&nbsp\;\nStudy away in the social sciences (anthropology\, economics\, political science\, sociology)\n&nbsp\;\n10:30 a.m. Nov. 20\n\nStudy away in natural sciences (geography\, geology and physics)\n&nbsp\;\n
URL;VALUE=URI:https://augustana.edu/about-us/events/2018/study-away-internships
SUMMARY:Internships in the U.S. and abroad
DTSTART:20181113T223400Z
END:VEVENT
END:VCALENDAR
