BEGIN:VCALENDAR
VERSION:2.0
PRODID:-//hacksw/handcal//NONSGML v1.0//EN
CALSCALE:GREGORIAN
BEGIN:VEVENT
DTEND:20181121T000000Z
UID: 69e5192683e48
DTSTAMP:20260419T130422Z
LOCATION:
DESCRIPTION:Corey Miles\, a diversity fellow at Augustana\, will present "Trap Music Aesthetics: Rural Hip-Hop and the Construction of Personhood."\n\nDescription: Rural black women and men have used hip-hop to construct black identity and subjectivity outside of major institutions in America. It suggests that rural black Americans use the term vibe to make aesthetic and affective judgments of individuals\, behaviors\, and institutions when the traditional English language is not nuanced enough to capture the essence of black experiences. Furthermore\, it suggests that style is used as a performative tool to construct notions of black womanhood and masculinity.\n
URL;VALUE=URI:https://augustana.edu/about-us/events/2018/trap-music-aesthetics-rural-hip-hop-and-construction-personhood
SUMMARY:Trap Music Aesthetics: Rural Hip-Hop and the Construction of Personhood
DTSTART:20181121T000000Z
END:VEVENT
END:VCALENDAR
