BEGIN:VCALENDAR
VERSION:2.0
PRODID:-//hacksw/handcal//NONSGML v1.0//EN
CALSCALE:GREGORIAN
BEGIN:VEVENT
DTEND:20181116T183000Z
UID: 69e5194a7f600
DTSTAMP:20260419T130458Z
LOCATION:RiverCenter
DESCRIPTION:The Augustana College Saxophone Quartet will perform holiday music for the 2018 Festival of Trees.&nbsp\;\n\nThe quartet is a faculty-student ensemble dedicated to the development of chamber music for saxophone.&nbsp\;\n\nTicket sales go towards supporting local arts programs in the Quad Cities.\n
URL;VALUE=URI:https://augustana.edu/about-us/events/2018/augustana-college-saxophone-quartet
SUMMARY:Augustana College Saxophone Quartet
DTSTART:20181116T183000Z
END:VEVENT
END:VCALENDAR
