BEGIN:VCALENDAR
VERSION:2.0
PRODID:-//hacksw/handcal//NONSGML v1.0//EN
CALSCALE:GREGORIAN
BEGIN:VEVENT
DTEND:20181114T223000Z
UID: 69eb33f2270bc
DTSTAMP:20260424T041218Z
LOCATION:Olin Center for Educational Technology
DESCRIPTION:Students are invited to learn about a new student group\, Augustana Enactus.\n\nEnactus is a national organization that establishes student programs to&nbsp\;"deploy entrepreneurial action to improve the human condition and enable sustainable human progress."\n\nAugustana Enactus is open to all majors. A second informational meeting will be held in the same location at 3:30 p.m. Thursday.\n
URL;VALUE=URI:https://augustana.edu/about-us/events/2018/enactus-info-meeting
SUMMARY:Enactus info meeting
DTSTART:20181114T223000Z
END:VEVENT
END:VCALENDAR
